BEGIN:VCALENDAR
VERSION:2.0
PRODID:-//Visit Wakulla - ECPv6.15.14//NONSGML v1.0//EN
CALSCALE:GREGORIAN
METHOD:PUBLISH
X-ORIGINAL-URL:https://www.visitwakulla.com
X-WR-CALDESC:Events for Visit Wakulla
REFRESH-INTERVAL;VALUE=DURATION:PT1H
X-Robots-Tag:noindex
X-PUBLISHED-TTL:PT1H
BEGIN:VTIMEZONE
TZID:America/New_York
BEGIN:DAYLIGHT
TZOFFSETFROM:-0500
TZOFFSETTO:-0400
TZNAME:EDT
DTSTART:20250309T070000
END:DAYLIGHT
BEGIN:STANDARD
TZOFFSETFROM:-0400
TZOFFSETTO:-0500
TZNAME:EST
DTSTART:20251102T060000
END:STANDARD
BEGIN:DAYLIGHT
TZOFFSETFROM:-0500
TZOFFSETTO:-0400
TZNAME:EDT
DTSTART:20260308T070000
END:DAYLIGHT
BEGIN:STANDARD
TZOFFSETFROM:-0400
TZOFFSETTO:-0500
TZNAME:EST
DTSTART:20261101T060000
END:STANDARD
BEGIN:DAYLIGHT
TZOFFSETFROM:-0500
TZOFFSETTO:-0400
TZNAME:EDT
DTSTART:20270314T070000
END:DAYLIGHT
BEGIN:STANDARD
TZOFFSETFROM:-0400
TZOFFSETTO:-0500
TZNAME:EST
DTSTART:20271107T060000
END:STANDARD
END:VTIMEZONE
BEGIN:VEVENT
DTSTART;TZID=America/New_York:20260314T100000
DTEND;TZID=America/New_York:20260314T140000
DTSTAMP:20260420T043810
CREATED:20260219T155326Z
LAST-MODIFIED:20260219T164751Z
UID:10000131-1773482400-1773496800@www.visitwakulla.com
SUMMARY:Wakulla Wonderful - a Celebration of Wakulla County\, Florida
DESCRIPTION:Presented by Wakulla 4-H\, Wakulla Wonderful celebrates the county’s history and commemorates the founding day of Wakulla. With vendors\, entertainment\, and history tours of local landmarks like the Old Jail and County Courthouse\, Wakulla Wonderful is a well-rounded event that exhibits local pride for the county.
URL:https://www.visitwakulla.com/event/wakulla-wonderful-a-celebration-of-wakulla/
LOCATION:UF IFAS Extension Office\, 84 Cedar Ave.\, Crawfordville\, FL\, 32327\, United States
CATEGORIES:Arts & Culture,Educational,Exhibits & Attractions
END:VEVENT
END:VCALENDAR